Workbook
Name \A: """""""""""""""'vin_n-1&n'!#REF!"""""""""""""""
Name \A: """""""""""""""#REF!1surface_utisol!#REF!"""""""""""""""
Name \B: """""""""""""""#REF!2zones_fixes_0!#REF!"""""""""""""""
Name \B: """""""""""""""#REF!2zones_fixes_0!#REF!"""""""""""""""
Name _A: """!#REF!"""
Name _A: """!#REF!"""
Name _A: """""""""""""""'fleu_n-1&n'!#REF!"""""""""""""""
Name _A: """""""""""""""'frui_n-1&n'!#REF!"""""""""""""""
Name _A: """""""""""""""'frui_n-1&n'!#REF!"""""""""""""""
Name _A: """""""""""""""'leg1_n-1&n'!#REF!"""""""""""""""
Name _A: """""""""""""""'leg1_n-1&n'!#REF!"""""""""""""""
Name _A: """""""""""""""'pind_n-1&n'!#REF!"""""""""""""""
Name _A: """""""""""""""'sherbe_n-1&n'!#REF!"""""""""""""""
Name _A: """""""""""""""'territ_n-1&n (2)'!#REF!"""""""""""""""
Name _B: """!#REF!"""
Name _B: """!#REF!"""
Name _B: """""""""""""""'frui_n-1&n'!#REF!"""""""""""""""
Name _B: """""""""""""""'frui_n-1&n'!#REF!"""""""""""""""
Name _B: """""""""""""""'sherbe_n-1&n'!#REF!"""""""""""""""
Name _B: """!#REF!"""
Name A: """!#REF!"""
Name A: """!#REF!"""
Name A: """!#REF!"""
Name A: """""""""""""""#REF!1surface_utisol!#REF!"""""""""""""""
Name A: """""""""""""""#REF!1surface_utisol!#REF!"""""""""""""""
Name CULTURES: """!#REF!"""
Name CULTURES: """!#REF!"""
Name CULTURES: """""""""""""""'pind_n-1&n'!#REF!"""""""""""""""
Name CULTURES: """!#REF!"""
Name CULTURES: """""""""""""""#REF!2zones_fixes_0!#REF!"""""""""""""""
Name CULTURES: """""""""""""""#REF!2zones_fixes_0!#REF!"""""""""""""""
Name Excel_BuiltIn_Print_Area: """""""afinis_n-1&#REF!.[.$A$1]:afinis_n-1&#REF!.[.$J$118]"""""""
Name Excel_BuiltIn_Print_Area: """""""afinis_n-1&#REF!.[.$A$1]:afinis_n-1&#REF!.[.$J$118]"""""""
Name Excel_BuiltIn_Print_Area: """""""cop_n-1&#REF!.[.$A$1]:cop_n-1&#REF!.[.$I$57]"""""""
Name Excel_BuiltIn_Print_Area: """""""fleu_n-1&#REF!.[.$A$1]:fleu_n-1&#REF!.[.$D$60]"""""""
Name Excel_BuiltIn_Print_Area: """""""lait_n-1&#REF!.[.$A$1]:lait_n-1&#REF!.[.$J$35]"""""""
Name Excel_BuiltIn_Print_Area: """""""sherbe_n-1&#REF!.[.$A$1]:sherbe_n-1&#REF!.[.$I$55]"""""""
Name FLEURS: """!#REF!"""
Name FLEURS: """!#REF!"""
Name FLEURS: """""""""""""""'fleu_n-1&n'!#REF!"""""""""""""""
Name FLEURS: """!#REF!"""
Name FLEURS: """""""""""""""#REF!2zones_fixes_0!#REF!"""""""""""""""
Name FLEURS: """""""""""""""#REF!2zones_fixes_0!#REF!"""""""""""""""
Name FOURRAGE2: """!#REF!"""
Name FOURRAGE2: """!#REF!"""
Name FOURRAGE2: """""""""""""""'sherbe_n-1&n'!#REF!"""""""""""""""
Name FOURRAGE2: """!#REF!"""
Name FOURRAGE2: """""""""""""""#REF!2zones_fixes_0!#REF!"""""""""""""""
Name FOURRAGE2: """""""""""""""#REF!2zones_fixes_0!#REF!"""""""""""""""
Name FOURRAGES: """!#REF!"""
Name FOURRAGES: """!#REF!"""
Name FOURRAGES: """""""""""""""'sherbe_n-1&n'!#REF!"""""""""""""""
Name FOURRAGES: """!#REF!"""
Name FOURRAGES: """""""""""""""#REF!2zones_fixes_0!#REF!"""""""""""""""
Name FOURRAGES: """""""""""""""#REF!2zones_fixes_0!#REF!"""""""""""""""
Name FRUIT: """!#REF!"""
Name FRUIT: """!#REF!"""
Name FRUIT: """""""""""""""'frui_n-1&n'!#REF!"""""""""""""""
Name FRUIT: """""""""""""""'frui_n-1&n'!#REF!"""""""""""""""
Name FRUIT: """!#REF!"""

Sheet Sommaire
B1: STATISTIQUE AGRICOLE ANNUELLE (SAA) 2023 - 2024 Résultats - France métropolitaine
B4: Titre des tableaux | C4: ONGLETS (hyperliens)
B5: Céréales, oléagineux et protéagineux | C5: #COP
B6: Pailles de céréales | C6: #PAILLES
B7: Cultures fourragères | C7: #SHERBE
B8: Cultures industrielles | C8: #PIND
B9: Pommes de terre et tubercules | C9: #PDT
B10: Cultures légumières | C10: #LEG1
B11: Cultures fruitières | C11: #FRUI
B12: Cultures florales | C12: #FLEU
B13: Production du vignoble | C13: #VIN
B14: Répartition du territoire | C14: #TERRIT
B15: Effectifs des animaux en fin d'année | C15: #EFEX
... B19: Apiculture des exploitants agricoles | C19: #MIEL

Sheet COP
A1: SAA 2023-2024 définitive
I2: France métropolitaine
A3: Céréales, oléagineux et protéagineux
B4: Superficie développée | E4: Rendement | G4: Production récoltée
A5: Cultures | B5: (ha) | E5: (100 kg/ha) | G5: (tonne)
D6: Indice | I6: Indice
B7: 2023 | C7: 2024 | D7: 23/24 | E7: 2023 | F7: 2024 | G7: 2023 | H7: 2024 | I7: 23/24
A8: Céréales (y c. semences)
A9: Blé tendre d'hiver | B9: 4742898 | C9: 4177126 | D9: 88.1 | E9: 73.8 | F9: 60.9 | G9: 34996196 | H9: 25451825 | I9: 72.7
A10: Blé tendre de printemps | B10: 19050 | C10: 37448 | D10: 196.6 | E10: 63.8 | F10: 59.7 | G10: 121467.5 | H10: 223505.4 | I10: 184
A11: Total blé tendre | B11: 4761948 | C11: 4214574 | D11: 88.5 | E11: 73.7 | F11: 60.9 | G11: 35117663 | H11: 25675330 | I11: 73.1
A12: Blé dur d'hiver | B12: 229526 | C12: 209420 | D12: 91.2 | E12: 55.1 | F12: 51.2 | G12: 1265226.2 | H12: 1072540.7 | I12: 84.8
A13: Blé dur de printemps | B13: 6809 | C13: 30187 | D13: 443.3 | E13: 53.1 | F13: 57 | G13: 36162.1 | H13: 172089 | I13: 475.9
A14: Total blé dur | B14: 236335 | C14: 239607 | D14: 101.4 | E14: 55.1 | F14: 51.9 | G14: 1301388.3 | H14: 1244629.7 | I14: 95.6
A15: Seigle et méteil | B15: 38824 | C15: 29324 | D15: 75.5 | E15: 43.9 | F15: 37.4 | G15: 170290 | H15: 109629.1 | I15: 64.4
A16: Orge et escourgeon d'hiver | B16: 1367274 | C16: 1244567 | D16: 91 | E16: 70.9 | F16: 55.8 | G16: 9694873.8 | H16: 6948734.8 | I16: 71.7
A17: Orge et escourgeon de printemps | B17: 448220 | C17: 563933 | D17: 125.8 | E17: 57.8 | F17: 50.3 | G17: 2591478 | H17: 2834274.3 | I17: 109.4
A18: Total orge et escourgeon | B18: 1815494 | C18: 1808500 | D18: 99.6 | E18: 67.7 | F18: 54.1 | G18: 12286352 | H18: 9783009.1 | I18: 79.6
A19: Avoine d'hiver | B19: 48172 | C19: 39846 | D19: 82.7 | E19: 43.6 | F19: 38.7 | G19: 210198.8 | H19: 154271.7 | I19: 73.4
A20: Avoine de printemps | B20: 30728 | C20: 38356 | D20: 124.8 | E20: 42.7 | F20: 39.6 | G20: 131105 | H20: 151991.5 | I20: 115.9
... A35: Total toutes céréales | B35: 8829489 | C35: 8526284 | D35: 96.6 | E35: 73.6 | F35: 63.5 | G35: 64986368 | H35: 54183834 | I35: 83.4
A36: Oléagineux (y c. semences)
A37: Colza d'hiver (et navette) | B37: 1344245 | C37: 1325141 | D37: 98.6 | E37: 31.8 | F37: 29.7 | G37: 4272531.5 | H37: 3936753 | I37: 92.1
A38: Colza de printemps (et navette) | B38: 1489 | C38: 1519 | D38: 102 | E38: 29.3 | F38: 28.9 | G38: 4362.3 | H38: 4389 | I38: 100.6
A39: Total colza (et navette) | B39: 1345734 | C39: 1326660 | D39: 98.6 | E39: 31.8 | F39: 29.7 | G39: 4276893.8 | H39: 3941142 | I39: 92.1
A40: Tournesol | B40: 821737 | C40: 753684 | D40: 91.7 | E40: 25.1 | F40: 19.6 | G40: 2061428.7 | H40: 1479769.9 | I40: 71.8
A41: Soja | B41: 157753 | C41: 152680 | D41: 96.8 | E41: 24.6 | F41: 26.1 | G41: 387822.9 | H41: 398537.8 | I41: 102.8
A42: Lin oléagineux | B42: 26898 | C42: 22930 | D42: 85.2 | E42: 19.2 | F42: 17.3 | G42: 51689.2 | H42: 39622.6 | I42: 76.7
A43: Autres oléagineux | B43: 19539 | C43: 19485 | D43: 99.7 | E43: 13.6 | F43: 14 | G43: 26625.6 | H43: 27225.1 | I43: 102.3
A44: Total oléagineux | B44: 2371661 | C44: 2275439 | D44: 95.9 | E44: 28.7 | F44: 25.9 | G44: 6804460.2 | H44: 5886297.4 | I44: 86.5
A45: Protéagineux et légumes secs cultivés pour leur graine (y c. semences)
A46: Féveroles (et fèves) | B46: 80231 | C46: 80439 | D46: 100.3 | E46: 27 | F46: 26.9 | G46: 216323.1 | H46: 216349.9 | I46: 100
A47: Haricots secs | B47: 7696 | C47: 7391 | D47: 96 | E47: 21.7 | F47: 25 | G47: 16721 | H47: 18477.2 | I47: 110.5
A48: Lentilles | B48: 27666 | C48: 31370 | D48: 113.4 | E48: 12.9 | F48: 17.1 | G48: 35790 | H48: 53516.7 | I48: 149.5
A49: Pois protéagineux purs | B49: 151603 | C49: 123071 | D49: 81.2 | E49: 32 | F49: 28.3 | G49: 485189.6 | H49: 348447.9 | I49: 71.8
A50: Mélange de pois protéagineux | B50: 54747 | C50: 43334 | D50: 79.2 | E50: 35.4 | F50: 31.9 | G50: 193607.6 | H50: 138264.9 | I50: 71.4
A51: Pois chiches | B51: 25314 | C51: 29169 | D51: 115.2 | E51: 16.7 | F51: 18.6 | G51: 42210.3 | H51: 54252 | I51: 128.5
A52: Lupin doux | B52: 4927 | C52: 4757 | D52: 96.5 | E52: 22.1 | F52: 21.2 | G52: 10871 | H52: 10071.8 | I52: 92.6
A53: Autres protéagineux | B53: 995 | C53: 1194 | D53: 120 | E53: 16.5 | F53: 18.7 | G53: 1639.7 | H53: 2235.4 | I53: 136.3
A54: Total protéagineux et légumes secs | B54: 353179 | C54: 320725 | D54: 90.8 | E54: 28.4 | F54: 26.2 | G54: 1002352.3 | H54: 841615.8 | I54: 84
...

Sheet PAILLES
A1: =COP!A1 -> SAA 2023-2024 définitive
I2: France métropolitaine
A3: Pailles de céréales
A4: Cultures | B4: Production récoltée
B5: (tonne de matière sèche)
D6: Indice
B7: =COP!$B$7 -> 2023 | C7: =COP!$C$7 -> 2024 | D7: =COP!$I$7 -> 23/24
A8: Total pailles | B8: 15432765 | C8: 12911825 | D8: 83.7
A9: =COP!$A$55 -> Source : SAA SAA 2023-2024 définitive

Sheet SHERBE
A1: =COP!A1 -> SAA 2023-2024 définitive
I2: France métropolitaine
A3: Cultures fourragères
A4: Choux, racines et tubercules fourragers
A5: Cultures | B5: Superficie développée | E5: Rendement | G5: Production récoltée
B6: (ha) | E6: (100 kg/ha) | G6: (tonne de matière sèche)
D7: Indice | I7: Indice
B8: =COP!$B$7 -> 2023 | C8: =COP!$C$7 -> 2024 | D8: =COP!$I$7 -> 23/24 | E8: =COP!$B$7 -> 2023 | F8: =COP!$C$7 -> 2024 | G8: =COP!$B$7 -> 2023 | H8: =COP!$C$7 -> 2024 | I8: =COP!$I$7 -> 23/24
A9: Choux fourragers | B9: 433 | C9: 409 | D9: 94.5 | E9: 414.6 | F9: 390.9 | G9: 17952.2 | H9: 15985.9 | I9: 89
A10: Autres | B10: 16761 | C10: 15400 | D10: 91.9 | G10: 768327.1 | H10: 680020.6 | I10: 88.5
A11: Total choux, racines et tubercules fourragers | B11: 17194 | C11: 15809 | D11: 91.9 | G11: 786279.3 | H11: 696006.5 | I11: 88.5
A12: Fourrages annuels
A13: Cultures | B13: Superficie développée | E13: Rendement | G13: Production récoltée
B14: (ha) | E14: (100 kg/ha) | G14: (tonne de matière sèche)
D15: Indice | I15: Indice
B16: =COP!$B$7 -> 2023 | C16: =COP!$C$7 -> 2024 | D16: =COP!$I$7 -> 23/24 | E16: =COP!$B$7 -> 2023 | F16: =COP!$C$7 -> 2024 | G16: =COP!$B$7 -> 2023 | H16: =COP!$C$7 -> 2024 | I16: =COP!$I$7 -> 23/24
A17: Maïs fourrage irrigué | B17: 77376 | C17: 74954 | D17: 96.9 | E17: 145.5 | F17: 142.6 | G17: 1125571.4 | H17: 1068826.4 | I17: 95
A18: Maïs fourrage non irrigué | B18: 1180260 | C18: 1199726 | D18: 101.6 | E18: 137.9 | F18: 134.2 | G18: 16278176 | H18: 16097737 | I18: 98.9
A19: Maïs fourrage et ensilage (plante entière) | B19: 1257636 | C19: 1274680 | D19: 101.4 | E19: 138.4 | F19: 134.7 | G19: 17403747 | H19: 17166563 | I19: 98.6
A20: Autres fourrages annuels | B20: 435809 | C20: 438392 | D20: 100.6 | G20: 1992762.2 | H20: 2090915.9 | I20: 104.9
A21: Total fourrages annuels | B21: 1693445 | C21: 1713072 | D21: 101.2 | G21: 19396509 | H21: 19257479 | I21: 99.3
A22: Prairies non permanentes et surfaces toujours en herbe
A23: Cultures | B23: Superficie développée | E23: Rendement | G23: Production disponible
B24: (ha) | E24: (100 kg/ha) | G24: (tonne de matière sèche)
D25: Indice | I25: Indice
B26: =COP!$B$7 -> 2023 | C26: =COP!$C$7 -> 2024 | D26: =COP!$I$7 -> 23/24 | E26: =COP!$B$7 -> 2023 | F26: =COP!$C$7 -> 2024 | G26: =COP!$B$7 -> 2023 | H26: =COP!$C$7 -> 2024 | I26: =COP!$I$7 -> 23/24
A27: Luzerne pour déshydratation | B27: 68902 | C27: 68417 | D27: 99.3 | E27: 111 | F27: 109.6 | G27: 765147.5 | H27: 749727 | I27: 98
A28: Autres prairies artificielles | B28: 510477 | C28: 563019 | D28: 110.3 | E28: 78.5 | F28: 100.1 | G28: 4009335.4 | H28: 5636323.2 | I28: 140.6
A29: Total prairies artificielles | B29: 579379 | C29: 631436 | D29: 109 | E29: 82.4 | F29: 101.1 | G29: 4774482.8 | H29: 6386050.2 | I29: 133.8
A30: Total prairies temporaires | B30: 1830154 | C30: 1900923 | D30: 103.9 | E30: 72.2 | F30: 88.3 | G30: 13210788 | H30: 16784427 | I30: 127.1
A31: Total prairies non permanentes | B31: 2409533 | C31: 2532359 | D31: 105.1 | E31: 74.6 | F31: 91.5 | G31: 17985271 | H31: 23170477 | I31: 128.8
A32: Prairies naturelles ou semées depuis plus de 5 ans | B32: 8674907 | C32: 8640839 | D32: 99.6 | E32: 59 | F32: 69.9 | G32: 51174733 | H32: 60420385 | I32: 118.1
A33: STH peu productives (parcours, landes, alpages) | B33: 1676319 | C33: 1710707 | D33: 102.1 | E33: 12.2 | F33: 15 | G33: 2051201.8 | H33: 2557744.6 | I33: 124.7
A34: STH non productives ouvrant droit au versement de subventions | B34: 89845 | C34: 91007 | D34: 101.3
A35: Total superficie toujours en herbe | B35: 10441071 | C35: 10442553 | D35: 100 | E35: 51 | F35: 60.3 | G35: 53225935 | H35: 62978130 | I35: 118.3
A36: Ensemble | B36: 12850604 | C36: 12974912 | D36: 101 | E36: 55.4 | F36: 66.4 | G36: 71211206 | H36: 86148607 | I36: 121
A37: =COP!$A$55 -> Source : SAA SAA 2023-2024 définitive

Sheet PIND
A1: =COP!$A$1 -> SAA 2023-2024 définitive
I2: France métropolitaine
A3: Cultures industrielles
A4: (non compris semences sauf indications contraires)
B5: Superficie développée | E5: Rendement | G5: Production récoltée | J5: Richesse saccharimétrique
A6: Cultures | B6: (ha) | E6: (100 kg/ha) | G6: (tonne)
D7: Indice | I7: Indice | J7: (%)
B8: =COP!$B$7 -> 2023 | C8: =COP!$C$7 -> 2024 | D8: =COP!$I$7 -> 23/24 | E8: =COP!$B$7 -> 2023 | F8: =COP!$C$7 -> 2024 | G8: =COP!$B$7 -> 2023 | H8: =COP!$C$7 -> 2024 | I8: =COP!$I$7 -> 23/24 | J8: =COP!C7 -> 2024
A9: Betteraves industrielles | B9: 380551 | C9: 411632 | D9: 108.2 | E9: 803.59 | F9: 791.83 | G9: 30580684 | H9: 32594089 | I9: 106.6 | J9: 16.090977
A10: Surfaces cultures sucre détruites | B10: 0 | C10: 0
B12: Superficie développée | E12: Rendement | G12: Production récoltée
A13: Cultures | B13: (ha) | E13: (100 kg/ha) | G13: (tonne)
B15: =COP!$B$7 -> 2023 | C15: =COP!$C$7 -> 2024 | D15: =COP!$I$7 -> 23/24 | E15: =COP!$B$7 -> 2023 | F15: =COP!$C$7 -> 2024 | G15: =COP!$B$7 -> 2023 | H15: =COP!$C$7 -> 2024 | I15: =COP!$I$7 -> 23/24
A16: Chanvre textile et industriel (yc. semences) | B16: 19118 | C16: 22668 | D16: 118.6 | E16: 63.41 | F16: 59.08 | G16: 121226.8 | H16: 133928 | I16: 110.5
A17: Lin textile (yc. semences) | B17: 131185 | C17: 158288 | D17: 120.7 | E17: 39.29 | F17: 66.91 | G17: 515440.7 | H17: 1059081.4 | I17: 205.5
A18: Autres plantes à fibre | B18: 284 | C18: 284 | D18: 100 | E18: 56.25 | F18: 56.27 | G18: 1597.5 | H18: 1598.1 | I18: 100
A19: Total plantes à fibre (yc. semences) | B19: 150587 | C19: 181240 | D19: 120.4
A20: Total tabac (sec non fermenté) | B20: 1055 | C20: 1018 | D20: 96.5 | E20: 27.72 | F20: 26.03 | G20: 2924.9 | H20: 2649.7 | I20: 90.6
A21: Houblon (superficie non en production) | B21: 34 | C21: 64 | D21: 188.2
A22: Houblon (en production) | B22: 518 | C22: 516 | D22: 99.6 | E22: 13.95 | F22: 13.05 | G22: 722.5 | H22: 673.2 | I22: 93.2
A23: Chicorée à café (racines) | B23: 1173 | C23: 1173 | D23: 100 | E23: 445.78 | F23: 445.78 | G23: 52289.7 | H23: 52289.7 | I23: 100
A24: Autres cultures industrielles | B24: 3049 | C24: 3109 | D24: 102 | G24: 0 | H24: 0
A25: Total cultures industrielles diverses | B25: 5829 | C25: 5880 | D25: 100.9
A26: Autres plantes aromatiques, médicinales et à parfum (y c. œillette, fenouil, sauge sclarée) | B26: 26922 | C26: 41680 | D26: 172.5
E27: En kg d'essence
A28: Lavande | B28: 8082 | C28: 7318 | D28: 90.5 | E28: 28.7 | F28: 29.46 | G28: 231942 | H28: 215588 | I28: 92.9
A29: Lavandin | B29: 22144 | C29: 19851 | D29: 89.6 | E29: 74.57 | F29: 92.26 | G29: 1651310 | H29: 1831509 | I29: 110.9
A30: Total plantes aromatiques, médicinales et à parfum | B30: 57148 | C30: 68849 | D30: 120.5
A31: =COP!$A$55 -> Source : SAA SAA 2023-2024 définitive

Sheet PDT
A1: =COP!$A$1 -> SAA 2023-2024 définitive
K2: France métropolitaine
A3: Pommes de terre
B5: Superficie développée | E5: Rendement | G5: Production récoltée | J5: dont production dirigée vers la transformation
A6: Catégories | B6: (ha) | E6: (100 kg/ha) | G6: (tonne) | J6: (tonne)
D7: Indice | I7: Indice | L7: Indice
B8: =COP!$B$7 -> 2023 | C8: =COP!$C$7 -> 2024 | D8: =COP!$I$7 -> 23/24 | E8: =COP!$B$7 -> 2023 | F8: =COP!$C$7 -> 2024 | G8: =COP!$B$7 -> 2023 | H8: =COP!$C$7 -> 2024 | I8: =COP!$I$7 -> 23/24 | J8: =COP!$B$7 -> 2023 | K8: =COP!$C$7 -> 2024 | L8: =COP!$I$7 -> 23/24
A9: Plants certifiés | B9: 20676 | C9: 21774 | D9: 105.3 | E9: 307 | F9: 314.7 | G9: 634693.2 | H9: 685246.5 | I9: 108
A10: Dessus de plants | G10: 102357.4 | H10: 80990.7 | I10: 79.1 | J10: Teneur en fécule (%)
A11: Féculerie | B11: 16733 | C11: 10911 | D11: 65.2 | E11: 433.9 | F11: 457.5 | G11: 726076.7 | H11: 499196.1 | I11: 68.8 | J11: 17.7 | K11: 17.17 | L11: 97.01
A12: Primeurs ou nouvelles (commercialisées avant le 1/8) | B12: 12306 | C12: 13413 | D12: 109 | E12: 341.2 | F12: 361.7 | G12: 419833.7 | H12: 485173.6 | I12: 115.6 | J12: 8937.2 | K12: 35239.8 | L12: 394.3
A13: Conservation et demi-saison | B13: 154041 | C13: 171339 | D13: 111.2 | E13: 436.3 | F13: 436.8 | G13: 6721027.4 | H13: 7484593.5 | I13: 111.4 | J13: 2356690.3 | K13: 2595650.7 | L13: 110.1
A14: Ensemble de consommation | B14: 166347 | C14: 184752 | D14: 111.1 | E14: 429.3 | F14: 431.4 | G14: 7140861.1 | H14: 7969767.1 | I14: 111.6
A15: Ensemble Pommes de terre | B15: 203756 | C15: 217437 | D15: 106.7 | E15: 422.3 | F15: 424.7 | G15: 8603988.4 | H15: 9235200.4 | I15: 107.3
A16: =COP!$A$55 -> Source : SAA SAA 2023-2024 définitive

Sheet LEG
A1: =COP!$A$1 -> SAA 2023-2024 définitive
L2: France métropolitaine
A3: Cultures légumières
B5: Superficie développée | E5: Rendement | G5: Production récoltée | J5: dont production dirigée vers la transformation
A6: Légumes | B6: (ha) | E6: (100 kg/ha) | G6: hors jardins (tonne) | J6: hors jardins (tonne)
D7: Indice | I7: Indice | L7: Indice
B8: =COP!$B$7 -> 2023 | C8: =COP!$C$7 -> 2024 | D8: =COP!$I$7 -> 23/24 | E8: =COP!$B$7 -> 2023 | F8: =COP!$C$7 -> 2024 | G8: =COP!$B$7 -> 2023 | H8: =COP!$C$7 -> 2024 | I8: =COP!$I$7 -> 23/24 | J8: =COP!$B$7 -> 2023 | K8: =COP!$C$7 -> 2024 | L8: =COP!$I$7 -> 23/24
A9: Légumes feuillus et à tige
A10: Artichauts | B10: 4158 | C10: 3651 | D10: 87.8 | E10: 55.82 | F10: 58.7 | G10: 23210 | H10: 21431 | I10: 92.3 | J10: 1520 | K10: 1207 | L10: 79.4
A11: Asperges en production | B11: 6675 | C11: 7394 | D11: 110.8 | E11: 40.88 | F11: 37.16 | G11: 27285 | H11: 27475 | I11: 100.7 | J11: 238 | K11: 0 | L11: 0
A12: Céleris branches | B12: 845 | C12: 880 | D12: 104.1 | E12: 335.99 | F12: 324.5 | G12: 28392 | H12: 28556 | I12: 100.6 | J12: 859 | K12: 859 | L12: 100
A13: Choux-fleurs | B13: 13450 | C13: 12725 | D13: 94.6 | E13: 142.65 | F13: 169.09 | G13: 191861 | H13: 215162 | I13: 112.1 | J13: 26198 | K13: 22961 | L13: 87.6
A14: Choux brocolis à jets | B14: 2394 | C14: 2553 | D14: 106.6 | E14: 95.35 | F14: 101.55 | G14: 22827 | H14: 25925 | I14: 113.6
A15: Choux de Bruxelles | B15: 921 | C15: 1118 | D15: 121.4 | E15: 180.65 | F15: 183.32 | G15: 16638 | H15: 20495 | I15: 123.2 | J15: 6120 | K15: 7595 | L15: 124.1
A16: Choux à choucroute | B16: 871 | C16: 892 | D16: 102.4 | E16: 654.33 | F16: 828.57 | G16: 56992 | H16: 73909 | I16: 129.7 | J16: 53059 | K16: 68709 | L16: 129.5
A17: Choux autres | B17: 5405 | C17: 5647 | D17: 104.5 | E17: 169.17 | F17: 175.23 | G17: 91438 | H17: 98951 | I17: 108.2
A18: Endives racines | B18: 8114 | C18: 8783 | D18: 108.2 | E18: 235.08 | F18: 250.94 | G18: 190745 | H18: 220401 | I18: 115.5
A19: Endives chicons | G19: 107389 | H19: 129096 | I19: 120.2
A20: Epinards | B20: 4760 | C20: 4852 | D20: 101.9 | E20: 173.68 | F20: 177.95 | G20: 82670 | H20: 86340 | I20: 104.4 | J20: 52743 | K20: 54975 | L20: 104.2
A21: Poireaux | B21: 5343 | C21: 5382 | D21: 100.7 | E21: 328.29 | F21: 298.65 | G21: 175405 | H21: 160735 | I21: 91.6
A22: Laitues | B22: 6733 | C22: 6968 | D22: 103.5 | E22: 236.4 | F22: 231.97 | G22: 159166 | H22: 161634 | I22: 101.6
A23: Chicorées (frisées et scaroles) | B23: 956 | C23: 1000 | D23: 104.6 | E23: 278.4 | F23: 272.3 | G23: 26615 | H23: 27230 | I23: 102.3
A24: Cresson | B24: 152 | C24: 139 | D24: 91.4 | E24: 321.86 | F24: 341.38 | G24: 4892 | H24: 4745 | I24: 97
A25: Mâche | B25: 7787 | C25: 8015 | D25: 102.9 | E25: 57.2 | F25: 53.53 | G25: 44541 | H25: 42906 | I25: 96.3
A26: Autres salades | B26: 4549 | C26: 4682 | D26: 102.9 | E26: 113.51 | F26: 111.15 | G26: 51634 | H26: 52042 | I26: 100.8
A27: Bettes et cardes | B27: 976 | C27: 997 | D27: 102.2 | E27: 259.51 | F27: 256.65 | G27: 25329 | H27: 25588 | I27: 101
A28: Persil | B28: 1053 | C28: 1180 | D28: 112.1 | E28: 179.8 | F28: 242.41 | G28: 18933 | H28: 28604 | I28: 151.1 | J28: 5739 | K28: 5360 | L28: 93.4
A29: Légumes cultivés pour le fruit
A30: Fraises plein air | B30: 1537 | C30: 1454 | D30: 94.6 | E30: 130.32 | F30: 121.55 | G30: 20030 | H30: 17674 | I30: 88.2 | J30: 650 | K30: 601 | L30: 92.5
A31: Fraises sous serre | B31: 2196 | C31: 2201 | D31: 100.2 | E31: 234.43 | F31: 243.91 | G31: 51481 | H31: 53685 | I31: 104.3 | J31: 581 | K31: 589 | L31: 101.4
A32: Total fraises | B32: 3733 | C32: 3655 | D32: 97.9 | E32: 191.57 | F32: 195.24 | G32: 71511 | H32: 71359 | I32: 99.8 | J32: 1231 | K32: 1190 | L32: 96.7
A33: Aubergines | B33: 1122 | C33: 1210 | D33: 107.8 | E33: 344.06 | F33: 344.1 | G33: 38604 | H33: 41636 | I33: 107.9
A34: Concombres plein air | B34: 336 | C34: 331 | D34: 98.5 | E34: 663.78 | F34: 698.23 | G34: 22303 | H34: 23111 | I34: 103.6
A35: Concombres sous serres | B35: 711 | C35: 713 | D35: 100.3 | E35: 2121.64 | F35: 2066.08 | G35: 150849 | H35: 147312 | I35: 97.7
A36: Total concombres | B36: 1047 | C36: 1044 | D36: 99.7 | E36: 1653.79 | F36: 1632.4 | G36: 173152 | H36: 170423 | I36: 98.4
A37: Courgettes | B37: 4133 | C37: 4175 | D37: 101 | E37: 359.36 | F37: 344.57 | G37: 148525 | H37: 143857 | I37: 96.9 | J37: 21145 | K37: 22332 | L37: 105.6
A38: Melons plein air | B38: 12214 | C38: 12805 | D38: 104.8 | E38: 243.72 | F38: 234.1 | G38: 297678 | H38: 299771 | I38: 100.7
A39: Melons sous serre | B39: 495 | C39: 480 | D39: 97 | E39: 266.29 | F39: 253.44 | G39: 13181 | H39: 12165 | I39: 92.3
A40: Total melons | B40: 12709 | C40: 13285 | D40: 104.5 | E40: 244.6 | F40: 234.8 | G40: 310859 | H40: 311936 | I40: 100.3
A41: Pastèques | B41: 478 | C41: 485 | D41: 101.5 | E41: 358.8 | F41: 344.45 | G41: 17150 | H41: 16706 | I41: 97.4
...

Sheet LEG (2)
A1: =COP!$A$1 -> SAA 2023-2024 définitive
L2: France métropolitaine
A3: Cultures légumières
B5: Superficie développée | E5: Rendement | G5: Production récoltée | J5: dont production dirigée vers la transformation
A6: Légumes | B6: (ha) | E6: (100 kg/ha) | G6: hors jardins (tonne) | J6: hors jardins (tonne)
D7: Indice | I7: Indice | L7: Indice
B8: =COP!$B$7 -> 2023 | C8: =COP!$C$7 -> 2024 | D8: =COP!$I$7 -> 23/24 | E8: =COP!$B$7 -> 2023 | F8: =COP!$C$7 -> 2024 | G8: =COP!$B$7 -> 2023 | H8: =COP!$C$7 -> 2024 | I8: =COP!$I$7 -> 23/24 | J8: =COP!$B$7 -> 2023 | K8: =COP!$C$7 -> 2024 | L8: =COP!$I$7 -> 23/24
A9: Racines, bulbes et tubercules
A10: Ail (en vert et en sec) | B10: 4147 | C10: 4207 | D10: 101.4 | E10: 71.1 | F10: 68.21 | G10: 29485 | H10: 28695 | I10: 97.3
A11: Betteraves potagères | B11: 4183 | C11: 4331 | D11: 103.5 | E11: 447.64 | F11: 365.24 | G11: 187246 | H11: 158187 | I11: 84.5 | J11: 87848 | K11: 69714 | L11: 79.4
A12: Carottes pour le frais | B12: 10273 | C12: 10694 | D12: 104.1 | E12: 382.34 | F12: 386.61 | G12: 392777 | H12: 413436 | I12: 105.3 | J12: 55591 | K12: 50548 | L12: 90.9
A13: Carottes pour l'industrie | B13: 4641 | C13: 5074 | D13: 109.3 | E13: 556.46 | F13: 549.14 | G13: 258254 | H13: 278634 | I13: 107.9 | J13: 252802 | K13: 272560 | L13: 107.8
A14: Total carottes | B14: 14914 | C14: 15768 | D14: 105.7 | E14: 436.52 | F14: 438.91 | G14: 651031 | H14: 692070 | I14: 106.3 | J14: 308393 | K14: 323108 | L14: 104.8
A15: Céleris raves | B15: 1566 | C15: 1643 | D15: 104.9 | E15: 334.79 | F15: 320.64 | G15: 52428 | H15: 52681 | I15: 100.5
A16: Echalotes | B16: 3999 | C16: 3692 | D16: 92.3 | E16: 140.26 | F16: 165.6 | G16: 56089 | H16: 61140 | I16: 109
A17: Navets potagers | B17: 2355 | C17: 2365 | D17: 100.4 | E17: 247.31 | F17: 243.76 | G17: 58240 | H17: 57650 | I17: 99
A18: Oignons blancs | B18: 2893 | C18: 3430 | D18: 118.6 | E18: 210.65 | F18: 226.79 | G18: 60940 | H18: 77788 | I18: 127.6
A19: Oignons de couleur | B19: 14451 | C19: 15972 | D19: 110.5 | E19: 447.48 | F19: 418.44 | G19: 646660 | H19: 668338 | I19: 103.4 | J19: 230201 | K19: 241572 | L19: 104.9
A20: Radis | B20: 3540 | C20: 4234 | D20: 119.6 | E20: 129.56 | F20: 119.62 | G20: 45865 | H20: 50648 | I20: 110.4
A21: Salsifis et scorsonères | B21: 789 | C21: 858 | D21: 108.7 | E21: 307.22 | F21: 288.09 | G21: 24239 | H21: 24718 | I21: 102 | J21: 21959 | K21: 22176 | L21: 101
A22: Légumes à cosse
A23: Petits pois (grain) | B23: 40091 | C23: 40753 | D23: 101.7 | E23: 66.42 | F23: 63.79 | G23: 266294 | H23: 259945 | I23: 97.6 | J23: 223289 | K23: 216602 | L23: 97
A24: Haricots à écosser et demi-secs (grain) | B24: 6995 | C24: 7530 | D24: 107.6 | E24: 57.53 | F24: 53.71 | G24: 40242 | H24: 40443 | I24: 100.5 | J24: 25691 | K24: 26387 | L24: 102.7
A25: Haricots verts (y c. haricots beurre) | B25: 25898 | C25: 26548 | D25: 102.5 | E25: 121.34 | F25: 119.64 | G25: 314240 | H25: 317631 | I25: 101.1 | J25: 254712 | K25: 257605 | L25: 101.1
A26: Autres légumes frais
A27: Maïs doux | B27: 22835 | C27: 20442 | D27: 89.5 | E27: 200.76 | F27: 194.87 | G27: 458431 | H27: 398359 | I27: 86.9 | J27: 403684 | K27: 350786 | L27: 86.9
A28: Autres légumes | B28: 15764 | C28: 15813 | D28: 100.3
A29: Champignons et truffes
A30: Champignons cultivés | G30: 94359 | H30: 99564 | I30: 105.5 | J30: 53440 | K30: 56428 | L30: 105.6
A31: Truffes | G31: 50 | H31: 43 | I31: 86
A32: =COP!$A$55 -> Source : SAA SAA 2023-2024 définitive

Sheet FRUIT
A1: =COP!$A$1 -> SAA 2023-2024 définitive
L2: France métropolitaine
A3: Cultures fruitières
B5: Superficie développée | E5: Rendement | G5: Production récoltée des vergers purs et associés (tonne) | J5: Production dirigée vers la transformation (tonne)
A6: Fruits | B6: (ha) | E6: (100kg/ha)
D7: Indice | I7: Indice | L7: Indice
B8: =COP!$B$7 -> 2023 | C8: =COP!$C$7 -> 2024 | D8: =COP!$I$7 -> 23/24 | E8: =COP!$B$7 -> 2023 | F8: =COP!$C$7 -> 2024 | G8: =COP!$B$7 -> 2023 | H8: =COP!$C$7 -> 2024 | I8: =COP!$I$7 -> 23/24 | J8: =COP!$B$7 -> 2023 | K8: =COP!$C$7 -> 2024 | L8: =COP!$I$7 -> 23/24
A9: Fruits à noyau
A10: Abricots | B10: 11121 | C10: 10499 | D10: 94.4 | E10: 114.9 | F10: 78.83 | G10: 127785 | H10: 82762 | I10: 64.8 | J10: 16296 | K10: 9623 | L10: 59.1
A11: Bigarreaux | B11: 6678 | C11: 6140 | D11: 91.9 | E11: 46.55 | F11: 46.18 | G11: 31085 | H11: 28353 | I11: 91.2 | J11: 7094 | K11: 6674 | L11: 94.1
A12: Griottes et autres cerises | B12: 758 | C12: 759 | D12: 100.1 | E12: 34.05 | F12: 34.84 | G12: 2581 | H12: 2644 | I12: 102.4 | J12: 858 | K12: 788 | L12: 91.8
A13: Total cerises | B13: 7436 | C13: 6899 | D13: 92.8 | E13: 45.27 | F13: 44.93 | G13: 33666 | H13: 30997 | I13: 92.1 | J13: 7952 | K13: 7462 | L13: 93.8
A14: Pavies | B14: 176 | C14: 174 | D14: 98.9 | E14: 203.2 | F14: 211.9 | G14: 3576 | H14: 3687 | I14: 103.1 | J14: 1768 | K14: 1892 | L14: 107
A15: Pêches | B15: 5725 | C15: 5677 | D15: 99.2 | E15: 187.78 | F15: 206.31 | G15: 107504 | H15: 117123 | I15: 108.9 | J15: 7611 | K15: 8427 | L15: 110.7
A16: Nectarines et brugnons | B16: 5299 | C16: 5196 | D16: 98.1 | E16: 210.5 | F16: 222.76 | G16: 111545 | H16: 115746 | I16: 103.8
A17: Total pavies, pêches, nectarines et brugnons | B17: 11200 | C17: 11047 | D17: 98.6 | E17: 198.77 | F17: 214.14 | G17: 222625 | H17: 236556 | I17: 106.3 | J17: 9379 | K17: 10319 | L17: 110
A18: Prunes à pruneaux | B18: 9740 | C18: 10005 | D18: 102.7 | E18: 138.8 | F18: 104.09 | G18: 135195 | H18: 104139 | I18: 77 | J18: 134934 | K18: 103938 | L18: 77
A19: Mirabelles | B19: 1761 | C19: 1761 | D19: 100 | E19: 81.74 | F19: 83.25 | G19: 14395 | H19: 14660 | I19: 101.8 | J19: 8419 | K19: 9203 | L19: 109.3
A20: Reines-claudes | B20: 1392 | C20: 1373 | D20: 98.6 | E20: 154.53 | F20: 142.47 | G20: 21511 | H20: 19560 | I20: 90.9 | J20: 329 | K20: 321 | L20: 97.6
A21: Quetsches | B21: 362 | C21: 362 | D21: 100 | E21: 112.49 | F21: 112.64 | G21: 4072 | H21: 4078 | I21: 100.1 | J21: 2115 | K21: 2128 | L21: 100.6
A22: Autres prunes | B22: 1855 | C22: 1822 | D22: 98.2 | E22: 181.05 | F22: 153.57 | G22: 33586 | H22: 27980 | I22: 83.3
A23: Total prunes | B23: 15110 | C23: 15323 | D23: 101.4 | E23: 138.16 | F23: 111.22 | G23: 208759 | H23: 170417 | I23: 81.6 | J23: 145797 | K23: 115590 | L23: 79.3
A24: Olives (pour la table ou l'huile) | B24: 16664 | C24: 16306 | D24: 97.9 | E24: 17.68 | F24: 17.3 | G24: 29456 | H24: 28203 | I24: 95.7 | J24: 28569 | K24: 27498 | L24: 96.3
A25: Autres fruits à noyau | B25: 6298 | C25: 6268 | D25: 99.5
A26: Fruits à pépin
A27: Pommes à cidre | B27: 14357 | C27: 14244 | D27: 99.2 | E27: 215.33 | F27: 236.43 | G27: 309145 | H27: 336772 | I27: 108.9
A28: Jules Guyot | B28: 1270 | C28: 1283 | D28: 101 | E28: 159.32 | F28: 217.23 | G28: 20234 | H28: 27870 | I28: 137.7 | J28: 721 | K28: 1030 | L28: 142.9
A29: William's | B29: 1875 | C29: 1965 | D29: 104.8 | E29: 222.05 | F29: 258.47 | G29: 41635 | H29: 50790 | I29: 122 | J29: 17062 | K29: 19400 | L29: 113.7
A30: Autres poires d'été | B30: 212 | C30: 252 | D30: 118.9 | E30: 201.87 | F30: 213.46 | G30: 4280 | H30: 5379 | I30: 125.7 | J30: 348 | K30: 398 | L30: 114.4
A31: Poires d'été (ensemble) | B31: 3357 | C31: 3500 | D31: 104.3 | E31: 197.05 | F31: 240.11 | G31: 66149 | H31: 84039 | I31: 127 | J31: 18131 | K31: 20828 | L31: 114.9
A32: Poires d'automne | B32: 2272 | C32: 2252 | D32: 99.1 | E32: 226.62 | F32: 247.45 | G32: 51488 | H32: 55727 | I32: 108.2 | J32: 2452 | K32: 2513 | L32: 102.5
A33: Poires d'hiver | B33: 452 | C33: 467 | D33: 103.3 | E33: 234.7 | F33: 259.28 | G33: 10608 | H33: 12108 | I33: 114.1
A34: Total poires de table | B34: 6081 | C34: 6219 | D34: 102.3 | E34: 210.89 | F34: 244.21 | G34: 128245 | H34: 151874 | I34: 118.4 | J34: 20583 | K34: 23341 | L34: 113.4
A35: Pommes Golden | B35: 10219 | C35: 10063 | D35: 98.5 | E35: 383.71 | F35: 411.5 | G35: 392108 | H35: 414092 | I35: 105.6 | J35: 51955 | K35: 48964 | L35: 94.2
A36: Granny Smith | B36: 2751 | C36: 2758 | D36: 100.3 | E36: 440.76 | F36: 459.97 | G36: 121254 | H36: 126859 | I36: 104.6 | J36: 13052 | K36: 13820 | L36: 105.9
A37: Gala | B37: 6750 | C37: 6643 | D37: 98.4 | E37: 418.75 | F37: 432.91 | G37: 282659 | H37: 287582 | I37: 101.7 | J37: 19783 | K37: 13905 | L37: 70.3
A38: Autres pommes | B38: 19726 | C38: 19049 | D38: 96.6 | E38: 400.11 | F38: 419.3 | G38: 789261 | H38: 798719 | I38: 101.2 | J38: 66867 | K38: 62265 | L38: 93.1
A39: Total pommes de table | B39: 39446 | C39: 38513 | D39: 97.6 | E39: 401.89 | F39: 422.52 | G39: 1585282 | H39: 1627252 | I39: 102.6 | J39: 151657 | K39: 138954 | L39: 91.6
A40: Autres fruits à pépin (yc. Poires à poiré) | B40: 4122 | C40: 4146 | D40: 100.6
A41: =COP!$A$55 -> Source : SAA SAA 2023-2024 définitive

Sheet FRUIT (2)
A1: =COP!$A$1 -> SAA 2023-2024 définitive
L2: France métropolitaine
A3: Cultures fruitières
B5: Superficie développée | E5: Rendement | G5: Production récoltée des vergers purs et associés (tonne) | J5: Production dirigée vers la transformation (tonne)
A6: Fruits | B6: (ha) | E6: (100kg/ha)
D7: Indice | I7: Indice | L7: Indice
B8: =COP!$B$7 -> 2023 | C8: =COP!$C$7 -> 2024 | D8: =COP!$I$7 -> 23/24 | E8: =COP!$B$7 -> 2023 | F8: =COP!$C$7 -> 2024 | G8: =COP!$B$7 -> 2023 | H8: =COP!$C$7 -> 2024 | I8: =COP!$I$7 -> 23/24 | J8: =COP!$B$7 -> 2023 | K8: =COP!$C$7 -> 2024 | L8: =COP!$I$7 -> 23/24
A9: Fruits à coque
A10: Amandes | B10: 2333 | C10: 2721 | D10: 116.6 | E10: 9.11 | F10: 8.03 | G10: 2125 | H10: 2184 | I10: 102.8
A11: Châtaignes | B11: 9075 | C11: 9198 | D11: 101.4 | E11: 9.44 | F11: 9.73 | G11: 8571 | H11: 8948 | I11: 104.4 | J11: 2806 | K11: 3081 | L11: 109.8
A12: Noix | B12: 26872 | C12: 26834 | D12: 99.9 | E12: 11.68 | F12: 10.33 | G12: 31384 | H12: 27711 | I12: 88.3
A13: Noisettes | B13: 7916 | C13: 8200 | D13: 103.6 | E13: 21.68 | F13: 10.31 | G13: 17158 | H13: 8452 | I13: 49.3
A14: Autres fruits à coque | B14: 7027 | C14: 7066 | D14: 100.6
A15: Baies
A16: Actinidia (Kiwi) | B16: 3989 | C16: 4042 | D16: 101.3 | E16: 124.77 | F16: 125.58 | G16: 49772 | H16: 50760 | I16: 102
A17: Cassis et myrtilles | B17: 2485 | C17: 2579 | D17: 103.8 | E17: 42.44 | F17: 33.43 | G17: 10545 | H17: 8621 | I17: 81.8 | J17: 6830 | K17: 5195 | L17: 76.1
A18: Framboises | B18: 675 | C18: 707 | D18: 104.7 | E18: 93.34 | F18: 105.78 | G18: 6300 | H18: 7479 | I18: 118.7 | J18: 1628 | K18: 1875 | L18: 115.2
A19: Groseilles | B19: 324 | C19: 356 | D19: 109.9 | E19: 72.35 | F19: 57.12 | G19: 2344 | H19: 2033 | I19: 86.7 | J19: 1209 | K19: 805 | L19: 66.6
A20: Autres petits fruits | B20: 1326 | C20: 1319 | D20: 99.5
A21: Fruits divers
A22: Figues | B22: 831 | C22: 832 | D22: 100.1 | E22: 86.47 | F22: 89.56 | G22: 7185 | H22: 7452 | I22: 103.7
A23: Agrumes
A24: Clémentines, mandarines | B24: 1635 | C24: 1687 | D24: 103.2 | E24: 220.9 | F24: 290.83 | G24: 36117 | H24: 49063 | I24: 135.8 | J24: 1600 | K24: 3900 | L24: 243.8
A25: Pamplemousses | B25: 233 | C25: 238 | D25: 102.1 | E25: 333.01 | F25: 344.88 | G25: 7759 | H25: 8208 | I25: 105.8
A26: Autres agrumes | B26: 330 | C26: 344 | D26: 104.2
A27: =COP!$A$55 -> Source : SAA SAA 2023-2024 définitive

Sheet FLEU
A1: =COP!$A$1 -> SAA 2023-2024 définitive
D2: France métropolitaine
A3: Cultures florales
B4: Surface (ha)
A5: Rubriques | D5: Indice
B6: =COP!$B$7 -> 2023 | C6: =COP!$C$7 -> 2024 | D6: =COP!$I$7 -> 23/24
A7: Superficie maximum occupée par la bulbiculture (bulbes, oignons, tubercules, rhizomes et griffes) | B7: 681 | C7: 677 | D7: 99.412628
A8: Superficie maximum occupée par les pépinières florales | B8: 217 | C8: 215 | D8: 99.078341
A9: Superficie maximum occupée par les fleurs et feuillages coupés | B9: 1680 | C9: 1672 | D9: 99.52381
A10: Superficie maximum occupée par les plantes en pots fleuries et plantes vertes | B10: 1003 | C10: 1003 | D10: 100
A11: Superficie maximum occupée par les plantes à massif en arrachis ou en mottes et plantes vivaces | B11: 1232 | C11: 1323 | D11: 107.38636
A12: =COP!$A$55 -> Source : SAA SAA 2023-2024 définitive

Sheet VIN
A1: =COP!$A$1 -> SAA 2023-2024 définitive
M2: France métropolitaine
A3: Production du vignoble
B4: Superficie en production | E4: Superficie totale | H4: Rendement | J4: Production de raisin (tonne) | M4: dont production récoltée pour le fruit (tonne)
B5: (ha) | E5: (ha) | H5: (100kg/ha)
A6: Catégories | D6: Indice | G6: Indice | L6: Indice | O6: Indice
B7: =COP!$B$7 -> 2023 | C7: =COP!$C$7 -> 2024 | D7: =COP!$I$7 -> 23/24 | E7: =COP!$B$7 -> 2023 | F7: =COP!$C$7 -> 2024 | G7: =COP!$I$7 -> 23/24 | H7: =COP!$B$7 -> 2023 | I7: =COP!$C$7 -> 2024 | J7: =COP!$B$7 -> 2023 | K7: =COP!$C$7 -> 2024 | L7: =COP!$I$7 -> 23/24 | M7: =COP!$B$7 -> 2023 | N7: =COP!$C$7 -> 2024 | O7: =COP!$I$7 -> 23/24
A8: Vignes à raisin de table | B8: 6113 | C8: 6083 | D8: 99.5 | E8: 6331 | F8: 6304 | G8: 99.6 | H8: 68.34 | I8: 78.17 | J8: 41775.1 | K8: 47552.9 | L8: 113.8 | M8: 41770.2 | N8: 47552.9 | O8: 113.8
A9: Vignes à raisin de cuve | B9: 747216 | C9: 735244 | D9: 98.4 | E9: 782071 | F9: 768375 | G9: 98.2 | H9: 82.49 | I9: 63.92 | J9: 6163467.2 | K9: 4699872.9 | L9: 76.3 | M9: 2.3 | N9: 0 | O9: 0
A10: Ensemble | B10: 753329 | C10: 741327 | D10: 98.4 | E10: 788402 | F10: 774679 | G10: 98.3 | H10: 82.37 | I10: 64.04 | J10: 6205242.3 | K10: 4747425.8 | L10: 76.5 | M10: 41772.5 | N10: 47552.9 | O10: 113.8
A12: Production de vins, jus et moûts
B14: Superficie en production | E14: Rendement | G14: Production de vin blanc | J14: Production de vin rouge | M14: Production de vin
B15: (ha) | E15: (hl/ha) | G15: (hl) | J15: (hl) | M15: (hl)
A16: Types de vignes | D16: Indice | I16: Indice | L16: Indice | O16: Indice
B17: =COP!$B$7 -> 2023 | C17: =COP!$C$7 -> 2024 | D17: =COP!$I$7 -> 23/24 | E17: =COP!$B$7 -> 2023 | F17: =COP!$C$7 -> 2024 | G17: =COP!$B$7 -> 2023 | H17: =COP!$C$7 -> 2024 | I17: =COP!$I$7 -> 23/24 | J17: =COP!$B$7 -> 2023 | K17: =COP!$C$7 -> 2024 | L17: =COP!$I$7 -> 23/24 | M17: =COP!$B$7 -> 2023 | N17: =COP!$C$7 -> 2024 | O17: =COP!$I$7 -> 23/24
A18: Récolte pour AOP hors vins doux naturels, hors vins pour eaux de vie | B18: 413539 | C18: 401076 | D18: 97 | E18: 46.6 | F18: 37.4 | G18: 8464919 | H18: 5940088 | I18: 70.2 | J18: 10801423 | K18: 9047423 | L18: 83.8 | M18: 19266342 | N18: 14987511 | O18: 77.8
A19: Récolte non classée | G19: 444589 | H19: 180639 | I19: 40.6 | J19: 311979 | K19: 288578 | L19: 92.5 | M19: 756568 | N19: 469217 | O19: 62
A20: Total récolte agronomique en AOP hors vins doux naturels, hors vins pour eaux de vie | B20: 413539 | C20: 401076 | D20: 97 | E20: 48.4 | F20: 38.5 | G20: 8909508 | H20: 6120727 | I20: 68.7 | J20: 11113402 | K20: 9336001 | L20: 84 | M20: 20022910 | N20: 15456728 | O20: 77.2
A21: Récolte pour AOP de vins doux naturels | B21: 5172 | C21: 5052 | D21: 97.7 | E21: 18.1 | F21: 15.2 | G21: 70690 | H21: 60825 | I21: 86 | J21: 22873 | K21: 15990 | L21: 69.9 | M21: 93563 | N21: 76815 | O21: 82.1
A22: Récolte non classée | G22: 348 | H22: 1628 | I22: 467.8 | J22: 96 | K22: 403 | L22: 419.8 | M22: 444 | N22: 2031 | O22: 457.4
A23: Total récolte agronomique de vins doux naturels en AOP | B23: 5172 | C23: 5052 | D23: 97.7 | E23: 18.2 | F23: 15.6 | G23: 71038 | H23: 62453 | I23: 87.9 | J23: 22969 | K23: 16393 | L23: 71.4 | M23: 94007 | N23: 78846 | O23: 83.9
A24: Récolte vins et vins doux naturels AOP | B24: 418711 | C24: 406128 | D24: 97 | E24: 46.2 | F24: 37.1 | G24: 8535609 | H24: 6000913 | I24: 70.3 | J24: 10824296 | K24: 9063413 | L24: 83.7 | M24: 19359905 | N24: 15064326 | O24: 77.8
A25: Récolte non classée de vins et vins doux naturels | G25: 444937 | H25: 182267 | I25: 41 | J25: 312075 | K25: 288981 | L25: 92.6 | M25: 757012 | N25: 471248 | O25: 62.3
A26: Total récolte agronomique vins AOP et vins doux naturels AOP | B26: 418711 | C26: 406128 | D26: 97 | E26: 48 | F26: 38.3 | G26: 8980546 | H26: 6183180 | I26: 68.9 | J26: 11136371 | K26: 9352394 | L26: 84 | M26: 20116917 | N26: 15535574 | O26: 77.2
A27: Récolte pour AOP de vins aptes à la production d'eaux de vie | B27: 88135 | C27: 90294 | D27: 102.4 | E27: 140.4 | F27: 86.9 | G27: 12369803 | H27: 7844062 | I27: 63.4 | J27: 0 | K27: 0 | M27: 12369803 | N27: 7844062 | O27: 63.4
A28: Récolte non classée | G28: 18348 | H28: 13614 | I28: 74.2 | J28: 0 | K28: 0 | M28: 18348 | N28: 13614 | O28: 74.2
A29: Total récolte agronomique de vins aptes à la production d'eaux de vie AOP | B29: 88135 | C29: 90294 | D29: 102.4 | E29: 140.6 | F29: 87 | G29: 12388151 | H29: 7857676 | I29: 63.4 | J29: 0 | K29: 0 | M29: 12388151 | N29: 7857676 | O29: 63.4
A30: Récolte de vins IGP | B30: 201571 | C30: 200346 | D30: 99.4 | E30: 58.2 | F30: 53 | G30: 3853425 | H30: 3404364 | I30: 88.3 | J30: 7880378 | K30: 7212573 | L30: 91.5 | M30: 11733803 | N30: 10616937 | O30: 90.5
A31: Récolte non classée de vins IGP | G31: 158828 | H31: 218031 | I31: 137.3 | J31: 486853 | K31: 291380 | L31: 59.8 | M31: 645681 | N31: 509411 | O31: 78.9
A32: Total récolte agronomique de vins IGP | B32: 201571 | C32: 200346 | D32: 99.4 | E32: 61.4 | F32: 55.5 | G32: 4012253 | H32: 3622395 | I32: 90.3 | J32: 8367231 | K32: 7503953 | L32: 89.7 | M32: 12379484 | N32: 11126348 | O32: 89.9
A33: Récolte sans IG avec mention de cépage | G33: 485290 | H33: 290032 | I33: 59.8 | J33: 163115 | K33: 117871 | L33: 72.3 | M33: 648405 | N33: 407903 | O33: 62.9
A34: Récolte sans IG sans mention de cépage | G34: 784081 | H34: 602977 | I34: 76.9 | J34: 983256 | K34: 705028 | L34: 71.7 | M34: 1767337 | N34: 1308005 | O34: 74
A35: Total récolte de vins sans IG | B35: 38856 | C35: 38433 | D35: 98.9 | E35: 62.2 | F35: 44.6 | G35: 1269371 | H35: 893009 | I35: 70.4 | J35: 1146371 | K35: 822899 | L35: 71.8 | M35: 2415742 | N35: 1715908 | O35: 71
A36: Récolte en AOP/IGP non classée non commercialisée en vin | G36: 622113 | H36: 413912 | I36: 66.5 | J36: 798928 | K36: 580361 | L36: 72.6 | M36: 1421041 | N36: 994273 | O36: 70
A37: Total récolte des vins non classés et sans IG | G37: 1891484 | H37: 1306921 | I37: 69.1 | J37: 1945299 | K37: 1403260 | L37: 72.1 | M37: 3836783 | N37: 2710181 | O37: 70.6
A38: Total vins (JO-CVI) | B38: 747273 | C38: 735201 | D38: 98.4 | E38: 63.3 | F38: 49.3 | G38: 26650321 | H38: 18556260 | I38: 69.6 | J38: 20649973 | K38: 17679246 | L38: 85.6 | M38: 47300294 | N38: 36235506 | O38: 76.6
A39: =COP!$A$55 -> Source : SAA SAA 2023-2024 définitive

Sheet TERRIT
A1: =COP!$A$1 -> SAA 2023-2024 définitive
D2: France métropolitaine
A3: Répartition du territoire
C4: Surface (ha)
A5: Catégories | D5: Indice
B6: =COP!$B$7 -> 2023 | C6: =COP!$C$7 -> 2024 | D6: =COP!$I$7 -> 23/24
A7: Jachères | B7: 373187 | C7: 509855 | D7: 136.6
A8: Céréales (y c. semences) | B8: 8831204 | C8: 8526284 | D8: 96.5
A9: Oléagineux (y c. semences) | B9: 2371661 | C9: 2275439 | D9: 95.9
A10: Protéagineux hors légumes secs (y c. semences) | B10: 292503 | C10: 252795 | D10: 86.4
A11: Betteraves industrielles (n. c. semences) | B11: 380551 | C11: 411632 | D11: 108.2
A12: Plantes à fibres (y c. semences) | B12: 150587 | C12: 181240 | D12: 120.4
A13: Cultures industrielles diverses (n. c. semences) | B13: 5829 | C13: 5880 | D13: 100.9
A14: Plantes aromatiques, médicinales et à parfum (n. c. semences) | B14: 57148 | C14: 68849 | D14: 120.5
A15: Pommes de terre (y c. plants) | B15: 203756 | C15: 217437 | D15: 106.7
A16: Légumes frais (n. c. semences) | B16: 232265 | C16: 234552 | D16: 101
A17: dont maraîchage (légumes frais)* | B17: 56710 | C17: 56874 | D17: 100.3
A18: Légumes secs | B18: 60676 | C18: 67930 | D18: 112
... A36: Surface totale | B36: 54908737 | C36: 54908737 | D36: 100
A37: *. La ligne est un "dont" de la ligne "Légumes frais".
A38: =COP!$A$55 -> Source : SAA SAA 2023-2024 définitive

Sheet EFEX
A1: =COP!$A$1 -> SAA 2023-2024 définitive
G2: France métropolitaine
A3: Effectifs des animaux en fin d'année
B4: Dans les exploitations (tête)
A5: Animaux | D5: Indice
B6: =COP!$B$7 -> 2023 | C6: =COP!$C$7 -> 2024 | D6: =COP!$I$7 -> 23/24
A7: Espèce bovine
A8: Vaches laitières | B8: 3163745 | C8: 3072881 | D8: 97.1
A9: Vaches nourrices | B9: 3707715 | C9: 3641360 | D9: 98.2
A10: Toutes vaches | B10: 6871460 | C10: 6714241 | D10: 97.7
A11: Génisses laitières de renouvellement de plus de 2 ans | B11: 508086 | C11: 492674 | D11: 97
A12: Génisses nourrices de renouvellement de plus de 2 ans | B12: 781123 | C12: 819869 | D12: 105
A13: Génisses de boucherie de plus de 2 ans | B13: 434907 | C13: 449968 | D13: 103.5
A14: Mâles de type laitier de plus de 2 ans | B14: 84961 | C14: 88829 | D14: 104.6
A15: Mâles de type viande de plus de 2 ans | B15: 258365 | C15: 269003 | D15: 104.1
A16: Total bovins de plus de 2 ans | B16: 2067442 | C16: 2120343 | D16: 102.6
A17: Génisses laitières de renouvellement de 1 à 2 ans | B17: 901083 | C17: 884926 | D17: 98.2
A18: Génisses nourrices de renouvellement de 1 à 2 ans | B18: 851022 | C18: 838535 | D18: 98.5
A19: Génisses de boucherie de 1 à 2 ans | B19: 485240 | C19: 478637 | D19: 98.6
... A27: Ensemble espèce bovine | B27: 16710760 | C27: 16363933 | D27: 97.9
A28: Espèce porcine
A29: Porcelets | B29: 4372739 | C29: 4350110 | D29: 99.5
A30: Jeunes porcs de 20 à 50 kg | B30: 1788468 | C30: 1700072 | D30: 95.1
A31: Truies de 50 kg et plus | B31: 859262 | C31: 844140 | D31: 98.2
A32: Verrats de 50 kg et plus | B32: 11018 | C32: 10682 | D32: 97
A33: Porcs à l'engrais de 50 kg et plus | B33: 4875414 | C33: 4898122 | D33: 100.5
A34: Ensemble espèce porcine | B34: 11906901 | C34: 11803126 | D34: 99.1
A35: Espèce caprine
A36: Chevrettes | B36: 300936 | C36: 305005 | D36: 101.4
A37: Chèvres (femelles ayant mis bas) | B37: 914482 | C37: 921332 | D37: 100.7
A38: Autres caprins (y c. boucs) | B38: 104727 | C38: 103277 | D38: 98.6
A39: Ensemble espèce caprine | B39: 1320145 | C39: 1329614 | D39: 100.7
A40: Espèce ovine
A41: Agnelles | B41: 981745 | C41: 942023 | D41: 96
A42: Brebis-mères (y c. réforme) | B42: 4283346 | C42: 4272767 | D42: 99.8
A43: dont brebis-mères laitières | B43: 1239796 | C43: 1224327 | D43: 98.8
A44: Autres ovins (y c. béliers) | B44: 1308877 | C44: 1278135 | D44: 97.7
A45: Ensemble espèce ovine | B45: 6573968 | C45: 6492925 | D45: 98.8
A46: =COP!$A$55 -> Source : SAA SAA 2023-2024 définitive

Sheet EFEX (2)
A1: =COP!$A$1 -> SAA 2023-2024 définitive
G2: France métropolitaine
A3: Effectifs des animaux en fin d'année
A4: Équidés
B5: Dans les exploitations (tête)
A6: Animaux | D6: Indice
B7: =COP!$B$7 -> 2023 | C7: =COP!$C$7 -> 2024 | D7: =COP!$I$7 -> 23/24
A8: Chevaux de selle, sport, loisirs et course | B8: 256611 | C8: 255880 | D8: 99.7
A9: Chevaux de trait | B9: 33102 | C9: 32134 | D9: 97.1
A10: Ensemble espèce chevaline | B10: 289713 | C10: 288014 | D10: 99.4
A11: Anes, mulets, bardots | B11: 20237 | C11: 19632 | D11: 97
A12: Ensemble équidés | B12: 309950 | C12: 307646 | D12: 99.3
A14: Volailles et lapins
A15: Animaux | B15: Dans les exploitations
B16: (1 000 têtes)
D17: Indice
B18: =COP!$B$7 -> 2023 | C18: =COP!$C$7 -> 2024 | D18: =COP!$I$7 -> 23/24
A19: Poules pondeuses d'oeufs à couver | B19: 7394 | C19: 7671 | D19: 103.7
A20: Poules pondeuses d'oeufs de consommation | B20: 54698 | C20: 54646 | D20: 99.9
A21: Poulettes | B21: 20757 | C21: 20746 | D21: 99.9
A22: Poulets de chair (y c. coqs et coquelets) | B22: 132744 | C22: 140274 | D22: 105.7
A23: Ensemble gallus | B23: 215593 | C23: 223337 | D23: 103.6
A24: Canards à gaver | B24: 9437 | C24: 11973 | D24: 126.9
A25: Canards à rôtir | B25: 9649 | C25: 11091 | D25: 114.9
A26: Dindes et dindons (au 1er octobre) | B26: 13701 | C26: 14053 | D26: 102.6
A27: Oies au 1er octobre (à rôtir, à gaver) | B27: 222 | C27: 190 | D27: 85.6
A28: Pintades | B28: 8340 | C28: 8201 | D28: 98.3
A29: Cailles d'élevage | B29: 3730 | C29: 3879 | D29: 104
A30: Lapines reproductrices | B30: 370 | C30: 355 | D30: 95.9
A31: =COP!$A$55 -> Source : SAA SAA 2023-2024 définitive

Sheet AFINIS
A1: =COP!$A$1 -> SAA 2023-2024 définitive
I2: France métropolitaine
A3: Animaux finis produits
B4: Production totale | E4: Poids moyen | G4: Poids produit (équivalent carcasse)
A5: Catégories | B5: (tête) | E5: (kg/tête) | G5: (tonne)
D6: Indice | I6: Indice
B7: =COP!$B$7 -> 2023 | C7: =COP!$C$7 -> 2024 | D7: =COP!$I$7 -> 23/24 | E7: =COP!$B$7 -> 2023 | F7: =COP!$C$7 -> 2024 | G7: =COP!$B$7 -> 2023 | H7: =COP!$C$7 -> 2024 | I7: =COP!$I$7 -> 23/24
A8: Bovins
A9: Vaches de réforme laitières | B9: 726423 | C9: 726940 | D9: 100.1 | E9: 322.7 | F9: 324.7 | G9: 234382.7 | H9: 236018.3 | I9: 100.7
A10: Vaches de réforme nourrices | B10: 645282 | C10: 628641 | D10: 97.4 | E10: 419.6 | F10: 419.4 | G10: 270774.3 | H10: 263647.7 | I10: 97.4
A11: Total vaches de réforme | B11: 1371705 | C11: 1355581 | D11: 98.8 | E11: 368.3 | F11: 368.6 | G11: 505157 | H11: 499666 | I11: 98.9
A12: Génisses laitières de plus de 2 ans | B12: 90070 | C12: 74605 | D12: 82.8 | E12: 260.4 | F12: 317.7 | G12: 23457.2 | H12: 23705.4 | I12: 101.1
A13: Génisses viande de plus de 2 ans | B13: 377282 | C13: 379927 | D13: 100.7 | E13: 400.5 | F13: 401.6 | G13: 151108.5 | H13: 152594 | I13: 101
A14: Total génisses de plus de 2 ans | B14: 467352 | C14: 454532 | D14: 97.3 | E14: 373.5 | F14: 387.9 | G14: 174565.7 | H14: 176299.4 | I14: 101
A15: Génisses laitières de 1 à 2 ans | B15: 9095 | C15: 8104 | D15: 89.1 | E15: 243.6 | F15: 245.8 | G15: 2215.8 | H15: 1992 | I15: 89.9
A16: Génisses viande 1 à 2 ans | B16: 85208 | C16: 84072 | D16: 98.7 | E16: 313.9 | F16: 314.1 | G16: 26746.8 | H16: 26405.5 | I16: 98.7
A17: Total génisses de 1 à 2 ans | B17: 94303 | C17: 92176 | D17: 97.7 | E17: 307.1 | F17: 308.1 | G17: 28962.6 | H17: 28397.5 | I17: 98
A18: Génisses de 8 mois à 1 an | B18: 32768 | C18: 29647 | D18: 90.5 | E18: 212.4 | F18: 212.1 | G18: 6958.7 | H18: 6288 | I18: 90.4
A19: Total génisses | B19: 594423 | C19: 576355 | D19: 97 | E19: 354.1 | F19: 366.1 | G19: 210487 | H19: 210984.9 | I19: 100.2
A20: Mâles de plus de 2 ans | B20: 173736 | C20: 182031 | D20: 104.8 | E20: 428.5 | F20: 424 | G20: 74444.3 | H20: 77177.3 | I20: 103.7
... A27: Ensemble bovins | B27: 3952299 | C27: 3899169 | D27: 98.7 | E27: 319.2 | F27: 323.6 | G27: 1261718.4 | H27: 1261778.8 | I27: 100
A28: Porcins
A29: Porcelets | B29: 324661 | C29: 325102 | D29: 100.1 | E29: 18.9 | F29: 22.9 | G29: 6139.2 | H29: 7433.5 | I29: 121.1
A30: Porcs charcutiers | B30: 21417344 | C30: 21378072 | D30: 99.8 | E30: 93.6 | F30: 94.6 | G30: 2005339.5 | H30: 2022374.8 | I30: 100.8
A31: Truies et verrats de réforme | B31: 320125 | C31: 326372 | D31: 102 | E31: 169.9 | F31: 169 | G31: 54385.6 | H31: 55165.9 | I31: 101.4
A32: Ensemble porcins | B32: 22062130 | C32: 22029546 | D32: 99.9 | E32: 93.6 | F32: 94.6 | G32: 2065864.3 | H32: 2084974.2 | I32: 100.9
A33: Caprins
A34: Autres chevreaux (yc Chevreaux de lait) | B34: 752689 | C34: 776567 | D34: 103.2 | E34: 8 | F34: 8 | G34: 6015.7 | H34: 6230.1 | I34: 103.6
A35: Caprins de réforme | B35: 212275 | C35: 215147 | D35: 101.4 | E35: 22.6 | F35: 22.7 | G35: 4793 | H35: 4892.2 | I35: 102.1
A36: Ensemble caprins | B36: 964964 | C36: 991714 | D36: 102.8 | E36: 11.2 | F36: 11.2 | G36: 10808.7 | H36: 11122.3 | I36: 102.9
A37: Ovins
A38: Autres agneaux (yc Agneaux de lait) | B38: 4542329 | C38: 4424171 | D38: 97.4 | E38: 18.6 | F38: 17.7 | G38: 84658.4 | H38: 78120.4 | I38: 92.3
A39: Moutons et ovins de réforme | B39: 1030783 | C39: 958044 | D39: 92.9 | E39: 26.2 | F39: 25.5 | G39: 27016.5 | H39: 24431.3 | I39: 90.4
A40: Ensemble ovins | B40: 5573112 | C40: 5382215 | D40: 96.6 | E40: 20 | F40: 19.1 | G40: 111674.9 | H40: 102551.7 | I40: 91.8
A41: =COP!$A$55 -> Source : SAA SAA 2023-2024 définitive

Sheet AFINIS (2)
A1: =COP!$A$1 -> SAA 2023-2024 définitive
I2: France métropolitaine
A3: Animaux finis produits
B4: Production totale | E4: Poids moyen | G4: Poids produit (équivalent carcasse)
A5: Catégories | B5: (millier de têtes) | E5: (kg/millier de têtes) | G5: (tonne)
D6: Indice | I6: Indice
B7: =COP!$B$7 -> 2023 | C7: =COP!$C$7 -> 2024 | D7: =COP!$I$7 -> 23/24 | E7: =COP!$B$7 -> 2023 | F7: =COP!$C$7 -> 2024 | G7: =COP!$B$7 -> 2023 | H7: =COP!$C$7 -> 2024 | I7: =COP!$I$7 -> 23/24
A8: Volailles et lapins
A9: Coqs et poules de réforme | B9: 39978 | C9: 43900 | D9: 109.8 | E9: 1442.2 | F9: 1400.1 | G9: 57658 | H9: 61465.9 | I9: 106.6
A10: Poulets de chair (mâles et femelles) et coquelets | B10: 672271 | C10: 719423 | D10: 107 | E10: 1555.8 | F10: 1595.6 | G10: 1045902 | H10: 1147882.2 | I10: 109.8
A11: Canards gras | B11: 17976 | C11: 23442 | D11: 130.4 | E11: 4563.9 | F11: 4614.4 | G11: 82040 | H11: 108171.7 | I11: 131.9
A12: dont Foies gras (canards) | F12: 539.2 | G12: 9253 | H12: 12485.7 | I12: 134.9
A13: Canards à rôtir | B13: 21388 | C13: 22895 | D13: 107 | E13: 2698.8 | F13: 2732 | G13: 57723 | H13: 62549.7 | I13: 108.4
A14: Dindes et dindons | B14: 30682 | C14: 31522 | D14: 102.7 | E14: 7856.8 | F14: 8000.9 | G14: 241063 | H14: 252203.3 | I14: 104.6
A15: Oies grasses | B15: 78 | C15: 78 | D15: 100 | E15: 4846.2 | F15: 4979.5 | G15: 378 | H15: 388.4 | I15: 102.8
A16: dont Foies gras (oies) | F16: 809.5 | G16: 59 | H16: 59.9 | I16: 101.5
A17: Oies à rôtir | B17: 229 | C17: 173 | D17: 75.5 | E17: 3903.9 | F17: 3735.3 | G17: 894 | H17: 646.2 | I17: 72.3
A18: Pintades | B18: 18009 | C18: 18842 | D18: 104.6 | E18: 1420 | F18: 1463.7 | G18: 25573 | H18: 27578.3 | I18: 107.8
A19: Cailles d'élevage | B19: 17953 | C19: 18706 | D19: 104.2 | E19: 214.4 | F19: 211.5 | G19: 3849 | H19: 3956.3 | I19: 102.8
A20: Lapins | B20: 15133 | C20: 14927 | D20: 98.6 | E20: 1448.4 | F20: 1420.1 | G20: 21919 | H20: 21198.2 | I20: 96.7
A21: =COP!$A$55 -> Source : SAA SAA 2023-2024 définitive

Sheet LAIT
A1: =COP!$A$1 -> SAA 2023-2024 définitive
J2: France métropolitaine
A3: Production de lait et utilisation à la ferme
B4: Vache | E4: Chèvre | H4: Brebis
D5: Indice | G5: Indice | J5: Indice
B6: =COP!$B$7 -> 2023 | C6: =COP!$C$7 -> 2024 | D6: =COP!$I$7 -> 23/24 | E6: =COP!$B$7 -> 2023 | F6: =COP!$C$7 -> 2024 | G6: =COP!$I$7 -> 23/24 | H6: =COP!$B$7 -> 2023 | I6: =COP!$C$7 -> 2024 | J6: =COP!$I$7 -> 23/24
B7: (hl) | E7: (hl) | H7: (hl)
A8: Livraisons de lait entier à l'industrie | B8: 227575492 | C8: 230633523 | D8: 101.3 | E8: 5210084 | F8: 5058233 | G8: 97.1 | H8: 2917325 | I8: 2862692 | J8: 98.1
A9: Lait utilisé pour la fabrication de produits fermiers | B9: 3717487 | C9: 3595725 | D9: 96.7 | E9: 1729526 | F9: 1750179 | G9: 101.2 | H9: 360188 | I9: 352730 | J9: 97.9
A10: dont livraisons à l'industrie de produits fermiers (en équivalent-lait) | B10: 862070 | C10: 862138 | D10: 100 | E10: 14830 | F10: 15630 | G10: 105.4 | H10: 0 | I10: 0
A11: Ventes directes et autoconsommation de lait entier (hors collecteurs) | B11: 1455533 | C11: 1467086 | D11: 100.8 | E11: 32182 | F11: 33290 | G11: 103.4 | H11: 11987 | I11: 13559 | J11: 113.1
A12: Production finale | B12: 232748513 | C12: 235696334 | D12: 101.3 | E12: 6971793 | F12: 6841702 | G12: 98.1 | H12: 3289500 | I12: 3228981 | J12: 98.2
A14: Taux butyreux (g/l) | B14: 42.44 | C14: 42.38 | D14: 99.86
A15: Matière protéique (g/l) | B15: 38.84 | C15: 33.95 | D15: 87.41
A16: =COP!$A$55 -> Source : SAA SAA 2023-2024 définitive

Sheet OEUFS
A1: =COP!$A$1 -> SAA 2023-2024 définitive
I2: France métropolitaine
A4: Production d'œufs des élevages professionnels
A5: Œufs | B5: Nombre moyen de poules pondeuses | E5: Production moyenne d'oeufs | G5: Production totale d'oeufs
B6: (millier) | E6: (par pondeuse et par an) | G6: (millier)
D7: Indice | I7: Indice
B8: =COP!$B$7 -> 2023 | C8: =COP!$C$7 -> 2024 | D8: =COP!$I$7 -> 23/24 | E8: =COP!$B$7 -> 2023 | F8: =COP!$C$7 -> 2024 | G8: =COP!$B$7 -> 2023 | H8: =COP!$C$7 -> 2024 | I8: =COP!$I$7 -> 23/24
A9: Œufs de consommation | B9: 55511 | C9: 55613 | D9: 100.2 | E9: 277 | F9: 277 | G9: 15364339 | H9: 15402367 | I9: 100.2
A10: Œufs à couver | B10: 7335 | C10: 7652 | D10: 104.3 | E10: 198 | F10: 197 | G10: 1451263 | H10: 1507710 | I10: 103.9
A11: =COP!$A$55 -> Source : SAA SAA 2023-2024 définitive

Sheet MIEL
A1: =COP!$A$1 -> SAA 2023-2024 définitive
I2: France métropolitaine
A4: Apiculture des exploitations agricoles
A5: Apiculture | B5: Nombre de ruches en production | E5: Rendement moyen par ruche | G5: Production récoltée
E6: (kg/ruche) | G6: (kg)
D7: Indice | I7: Indice
B8: =COP!$B$7 -> 2023 | C8: =COP!$C$7 -> 2024 | D8: =COP!$I$7 -> 23/24 | E8: =COP!$B$7 -> 2023 | F8: =COP!$C$7 -> 2024 | G8: =COP!$B$7 -> 2023 | H8: =COP!$C$7 -> 2024 | I8: =COP!$I$7 -> 23/24
A9: Miel | B9: 1140425 | C9: 1133797 | D9: 99.4 | E9: 21 | F9: 17 | G9: 24021116 | H9: 19344518 | I9: 80.5
A10: =COP!$A$55 -> Source : SAA SAA 2023-2024 définitive
